BEGIN:VCALENDAR
VERSION:2.0
PRODID:-//The Grande Colonial - ECPv6.15.20//NONSGML v1.0//EN
CALSCALE:GREGORIAN
METHOD:PUBLISH
X-ORIGINAL-URL:https://thegrandecolonial.com
X-WR-CALDESC:Events for The Grande Colonial
REFRESH-INTERVAL;VALUE=DURATION:PT1H
X-Robots-Tag:noindex
X-PUBLISHED-TTL:PT1H
BEGIN:VTIMEZONE
TZID:America/Los_Angeles
BEGIN:DAYLIGHT
TZOFFSETFROM:-0800
TZOFFSETTO:-0700
TZNAME:PDT
DTSTART:20240310T100000
END:DAYLIGHT
BEGIN:STANDARD
TZOFFSETFROM:-0700
TZOFFSETTO:-0800
TZNAME:PST
DTSTART:20241103T090000
END:STANDARD
BEGIN:DAYLIGHT
TZOFFSETFROM:-0800
TZOFFSETTO:-0700
TZNAME:PDT
DTSTART:20250309T100000
END:DAYLIGHT
BEGIN:STANDARD
TZOFFSETFROM:-0700
TZOFFSETTO:-0800
TZNAME:PST
DTSTART:20251102T090000
END:STANDARD
BEGIN:DAYLIGHT
TZOFFSETFROM:-0800
TZOFFSETTO:-0700
TZNAME:PDT
DTSTART:20260308T100000
END:DAYLIGHT
BEGIN:STANDARD
TZOFFSETFROM:-0700
TZOFFSETTO:-0800
TZNAME:PST
DTSTART:20261101T090000
END:STANDARD
END:VTIMEZONE
BEGIN:VEVENT
DTSTART;VALUE=DATE:20250305
DTEND;VALUE=DATE:20250306
DTSTAMP:20260423T032235
CREATED:20240627T202841Z
LAST-MODIFIED:20241011T190708Z
UID:10000300-1741132800-1741219199@thegrandecolonial.com
SUMMARY:Wine Wednesday at NINE-TEN Restaurant
DESCRIPTION:Every Wednesday\, join us for 1/2 Price Wine Day! Enjoy any bottle of wine on our wine list during lunch or dinner and receive 50% off the retail price.
URL:https://thegrandecolonial.com/event/wine-wednesday-at-nine-ten-restaurant/2025-03-05/
END:VEVENT
BEGIN:VEVENT
DTSTART;VALUE=DATE:20250306
DTEND;VALUE=DATE:20250307
DTSTAMP:20260423T032235
CREATED:20240919T212223Z
LAST-MODIFIED:20241011T190700Z
UID:10000037-1741219200-1741305599@thegrandecolonial.com
SUMMARY:Free Corkage Thursday at NINE-TEN Restaurant
DESCRIPTION:We invite you to join us every Thursday during lunch or dinner and BYOB!  Bring in your favorite bottle of wine or bubbly and we’ll pop the cork for you and waive the corkage fee (regularly $35 per 750ml bottle). Maximum of 3 bottles per table.
URL:https://thegrandecolonial.com/event/free-corkage-thursday/2025-03-06/
END:VEVENT
BEGIN:VEVENT
DTSTART;VALUE=DATE:20250312
DTEND;VALUE=DATE:20250313
DTSTAMP:20260423T032235
CREATED:20240627T202841Z
LAST-MODIFIED:20241011T190708Z
UID:10000301-1741737600-1741823999@thegrandecolonial.com
SUMMARY:Wine Wednesday at NINE-TEN Restaurant
DESCRIPTION:Every Wednesday\, join us for 1/2 Price Wine Day! Enjoy any bottle of wine on our wine list during lunch or dinner and receive 50% off the retail price.
URL:https://thegrandecolonial.com/event/wine-wednesday-at-nine-ten-restaurant/2025-03-12/
END:VEVENT
BEGIN:VEVENT
DTSTART;VALUE=DATE:20250313
DTEND;VALUE=DATE:20250314
DTSTAMP:20260423T032235
CREATED:20240919T212223Z
LAST-MODIFIED:20241011T190700Z
UID:10000038-1741824000-1741910399@thegrandecolonial.com
SUMMARY:Free Corkage Thursday at NINE-TEN Restaurant
DESCRIPTION:We invite you to join us every Thursday during lunch or dinner and BYOB!  Bring in your favorite bottle of wine or bubbly and we’ll pop the cork for you and waive the corkage fee (regularly $35 per 750ml bottle). Maximum of 3 bottles per table.
URL:https://thegrandecolonial.com/event/free-corkage-thursday/2025-03-13/
END:VEVENT
BEGIN:VEVENT
DTSTART;VALUE=DATE:20250319
DTEND;VALUE=DATE:20250320
DTSTAMP:20260423T032235
CREATED:20240627T202841Z
LAST-MODIFIED:20241011T190708Z
UID:10000302-1742342400-1742428799@thegrandecolonial.com
SUMMARY:Wine Wednesday at NINE-TEN Restaurant
DESCRIPTION:Every Wednesday\, join us for 1/2 Price Wine Day! Enjoy any bottle of wine on our wine list during lunch or dinner and receive 50% off the retail price.
URL:https://thegrandecolonial.com/event/wine-wednesday-at-nine-ten-restaurant/2025-03-19/
END:VEVENT
BEGIN:VEVENT
DTSTART;VALUE=DATE:20250320
DTEND;VALUE=DATE:20250321
DTSTAMP:20260423T032235
CREATED:20240919T212223Z
LAST-MODIFIED:20241011T190700Z
UID:10000039-1742428800-1742515199@thegrandecolonial.com
SUMMARY:Free Corkage Thursday at NINE-TEN Restaurant
DESCRIPTION:We invite you to join us every Thursday during lunch or dinner and BYOB!  Bring in your favorite bottle of wine or bubbly and we’ll pop the cork for you and waive the corkage fee (regularly $35 per 750ml bottle). Maximum of 3 bottles per table.
URL:https://thegrandecolonial.com/event/free-corkage-thursday/2025-03-20/
END:VEVENT
BEGIN:VEVENT
DTSTART;VALUE=DATE:20250326
DTEND;VALUE=DATE:20250327
DTSTAMP:20260423T032235
CREATED:20240627T202841Z
LAST-MODIFIED:20241011T190708Z
UID:10000303-1742947200-1743033599@thegrandecolonial.com
SUMMARY:Wine Wednesday at NINE-TEN Restaurant
DESCRIPTION:Every Wednesday\, join us for 1/2 Price Wine Day! Enjoy any bottle of wine on our wine list during lunch or dinner and receive 50% off the retail price.
URL:https://thegrandecolonial.com/event/wine-wednesday-at-nine-ten-restaurant/2025-03-26/
END:VEVENT
BEGIN:VEVENT
DTSTART;VALUE=DATE:20250327
DTEND;VALUE=DATE:20250328
DTSTAMP:20260423T032235
CREATED:20240919T212223Z
LAST-MODIFIED:20241011T190700Z
UID:10000040-1743033600-1743119999@thegrandecolonial.com
SUMMARY:Free Corkage Thursday at NINE-TEN Restaurant
DESCRIPTION:We invite you to join us every Thursday during lunch or dinner and BYOB!  Bring in your favorite bottle of wine or bubbly and we’ll pop the cork for you and waive the corkage fee (regularly $35 per 750ml bottle). Maximum of 3 bottles per table.
URL:https://thegrandecolonial.com/event/free-corkage-thursday/2025-03-27/
END:VEVENT
END:VCALENDAR